BEGIN:VCALENDAR
VERSION:2.0
PRODID:-//Valley View Casino &amp; Hotel - ECPv6.15.20//NONSGML v1.0//EN
CALSCALE:GREGORIAN
METHOD:PUBLISH
X-WR-CALNAME:Valley View Casino &amp; Hotel
X-ORIGINAL-URL:https://valleyviewcasino.com
X-WR-CALDESC:Events for Valley View Casino &amp; Hotel
REFRESH-INTERVAL;VALUE=DURATION:PT1H
X-Robots-Tag:noindex
X-PUBLISHED-TTL:PT1H
BEGIN:VTIMEZONE
TZID:America/Los_Angeles
BEGIN:DAYLIGHT
TZOFFSETFROM:-0800
TZOFFSETTO:-0700
TZNAME:PDT
DTSTART:20250309T100000
END:DAYLIGHT
BEGIN:STANDARD
TZOFFSETFROM:-0700
TZOFFSETTO:-0800
TZNAME:PST
DTSTART:20251102T090000
END:STANDARD
BEGIN:DAYLIGHT
TZOFFSETFROM:-0800
TZOFFSETTO:-0700
TZNAME:PDT
DTSTART:20260308T100000
END:DAYLIGHT
BEGIN:STANDARD
TZOFFSETFROM:-0700
TZOFFSETTO:-0800
TZNAME:PST
DTSTART:20261101T090000
END:STANDARD
BEGIN:DAYLIGHT
TZOFFSETFROM:-0800
TZOFFSETTO:-0700
TZNAME:PDT
DTSTART:20270314T100000
END:DAYLIGHT
BEGIN:STANDARD
TZOFFSETFROM:-0700
TZOFFSETTO:-0800
TZNAME:PST
DTSTART:20271107T090000
END:STANDARD
END:VTIMEZONE
BEGIN:VEVENT
DTSTART;VALUE=DATE:20260903
DTEND;VALUE=DATE:20260904
DTSTAMP:20260425T043109
CREATED:20250802T012253Z
LAST-MODIFIED:20250802T012325Z
UID:10001664-1788393600-1788479999@valleyviewcasino.com
SUMMARY:Thirsty Thursdays
DESCRIPTION:Thirsty Thursdays\nJoin us at Valley View Casino & Hotel for our Thirsty Thursdays promotion where you can sip on $5 ice-cold draft beer\, $6 hand-selected wines and $7 refreshing cocktails. Enjoy these specials throughout the casino and at any of our restaurants or bars.
URL:https://valleyviewcasino.com/promotion/thirsty-thursdays-2/2026-09-03/
LOCATION:Throughout the Casino
ATTACH;FMTTYPE=image/webp:https://valleyviewcasino.com/wp-content/uploads/2025/04/promo-tile-thirstythursdays.jpg.webp
END:VEVENT
BEGIN:VEVENT
DTSTART;TZID=America/Los_Angeles:20260827T170000
DTEND;TZID=America/Los_Angeles:20260827T210000
DTSTAMP:20260425T043109
CREATED:20260330T180432Z
LAST-MODIFIED:20260423T173633Z
UID:10002116-1787850000-1787864400@valleyviewcasino.com
SUMMARY:$500\,000 Pick Three Thursdays
DESCRIPTION:$500\,000 Pick Three Thursdays\nJoin us for our $500\,000 Pick Three Thursdays promotion where you could win a huge grand prize. Every hour from 5:00pm – 8:00pm\, five guests will win MOREPLAY®\, and then at 9:00pm\, three guests will each select three envelopes for a chance at $500\,000. So join us at the Main Stage Bar every Thursday from 5:00pm – 9:00pm to win big!
URL:https://valleyviewcasino.com/promotion/500000-pick-three-thursdays/2026-08-27/
LOCATION:Main Stage Bar
ATTACH;FMTTYPE=image/webp:https://valleyviewcasino.com/wp-content/uploads/2025/04/promo-tile-3thursdays.jpg.webp
END:VEVENT
BEGIN:VEVENT
DTSTART;VALUE=DATE:20260827
DTEND;VALUE=DATE:20260828
DTSTAMP:20260425T043109
CREATED:20250802T012253Z
LAST-MODIFIED:20250802T012325Z
UID:10001663-1787788800-1787875199@valleyviewcasino.com
SUMMARY:Thirsty Thursdays
DESCRIPTION:Thirsty Thursdays\nJoin us at Valley View Casino & Hotel for our Thirsty Thursdays promotion where you can sip on $5 ice-cold draft beer\, $6 hand-selected wines and $7 refreshing cocktails. Enjoy these specials throughout the casino and at any of our restaurants or bars.
URL:https://valleyviewcasino.com/promotion/thirsty-thursdays-2/2026-08-27/
LOCATION:Throughout the Casino
ATTACH;FMTTYPE=image/webp:https://valleyviewcasino.com/wp-content/uploads/2025/04/promo-tile-thirstythursdays.jpg.webp
END:VEVENT
BEGIN:VEVENT
DTSTART;TZID=America/Los_Angeles:20260820T170000
DTEND;TZID=America/Los_Angeles:20260820T210000
DTSTAMP:20260425T043109
CREATED:20260330T180432Z
LAST-MODIFIED:20260423T173633Z
UID:10002115-1787245200-1787259600@valleyviewcasino.com
SUMMARY:$500\,000 Pick Three Thursdays
DESCRIPTION:$500\,000 Pick Three Thursdays\nJoin us for our $500\,000 Pick Three Thursdays promotion where you could win a huge grand prize. Every hour from 5:00pm – 8:00pm\, five guests will win MOREPLAY®\, and then at 9:00pm\, three guests will each select three envelopes for a chance at $500\,000. So join us at the Main Stage Bar every Thursday from 5:00pm – 9:00pm to win big!
URL:https://valleyviewcasino.com/promotion/500000-pick-three-thursdays/2026-08-20/
LOCATION:Main Stage Bar
ATTACH;FMTTYPE=image/webp:https://valleyviewcasino.com/wp-content/uploads/2025/04/promo-tile-3thursdays.jpg.webp
END:VEVENT
BEGIN:VEVENT
DTSTART;VALUE=DATE:20260820
DTEND;VALUE=DATE:20260821
DTSTAMP:20260425T043109
CREATED:20250802T012253Z
LAST-MODIFIED:20250802T012325Z
UID:10001662-1787184000-1787270399@valleyviewcasino.com
SUMMARY:Thirsty Thursdays
DESCRIPTION:Thirsty Thursdays\nJoin us at Valley View Casino & Hotel for our Thirsty Thursdays promotion where you can sip on $5 ice-cold draft beer\, $6 hand-selected wines and $7 refreshing cocktails. Enjoy these specials throughout the casino and at any of our restaurants or bars.
URL:https://valleyviewcasino.com/promotion/thirsty-thursdays-2/2026-08-20/
LOCATION:Throughout the Casino
ATTACH;FMTTYPE=image/webp:https://valleyviewcasino.com/wp-content/uploads/2025/04/promo-tile-thirstythursdays.jpg.webp
END:VEVENT
BEGIN:VEVENT
DTSTART;TZID=America/Los_Angeles:20260813T170000
DTEND;TZID=America/Los_Angeles:20260813T210000
DTSTAMP:20260425T043109
CREATED:20260330T180432Z
LAST-MODIFIED:20260423T173633Z
UID:10002114-1786640400-1786654800@valleyviewcasino.com
SUMMARY:$500\,000 Pick Three Thursdays
DESCRIPTION:$500\,000 Pick Three Thursdays\nJoin us for our $500\,000 Pick Three Thursdays promotion where you could win a huge grand prize. Every hour from 5:00pm – 8:00pm\, five guests will win MOREPLAY®\, and then at 9:00pm\, three guests will each select three envelopes for a chance at $500\,000. So join us at the Main Stage Bar every Thursday from 5:00pm – 9:00pm to win big!
URL:https://valleyviewcasino.com/promotion/500000-pick-three-thursdays/2026-08-13/
LOCATION:Main Stage Bar
ATTACH;FMTTYPE=image/webp:https://valleyviewcasino.com/wp-content/uploads/2025/04/promo-tile-3thursdays.jpg.webp
END:VEVENT
BEGIN:VEVENT
DTSTART;VALUE=DATE:20260813
DTEND;VALUE=DATE:20260814
DTSTAMP:20260425T043109
CREATED:20250802T012253Z
LAST-MODIFIED:20250802T012325Z
UID:10001661-1786579200-1786665599@valleyviewcasino.com
SUMMARY:Thirsty Thursdays
DESCRIPTION:Thirsty Thursdays\nJoin us at Valley View Casino & Hotel for our Thirsty Thursdays promotion where you can sip on $5 ice-cold draft beer\, $6 hand-selected wines and $7 refreshing cocktails. Enjoy these specials throughout the casino and at any of our restaurants or bars.
URL:https://valleyviewcasino.com/promotion/thirsty-thursdays-2/2026-08-13/
LOCATION:Throughout the Casino
ATTACH;FMTTYPE=image/webp:https://valleyviewcasino.com/wp-content/uploads/2025/04/promo-tile-thirstythursdays.jpg.webp
END:VEVENT
BEGIN:VEVENT
DTSTART;TZID=America/Los_Angeles:20260806T170000
DTEND;TZID=America/Los_Angeles:20260806T210000
DTSTAMP:20260425T043109
CREATED:20260330T180432Z
LAST-MODIFIED:20260423T173633Z
UID:10002113-1786035600-1786050000@valleyviewcasino.com
SUMMARY:$500\,000 Pick Three Thursdays
DESCRIPTION:$500\,000 Pick Three Thursdays\nJoin us for our $500\,000 Pick Three Thursdays promotion where you could win a huge grand prize. Every hour from 5:00pm – 8:00pm\, five guests will win MOREPLAY®\, and then at 9:00pm\, three guests will each select three envelopes for a chance at $500\,000. So join us at the Main Stage Bar every Thursday from 5:00pm – 9:00pm to win big!
URL:https://valleyviewcasino.com/promotion/500000-pick-three-thursdays/2026-08-06/
LOCATION:Main Stage Bar
ATTACH;FMTTYPE=image/webp:https://valleyviewcasino.com/wp-content/uploads/2025/04/promo-tile-3thursdays.jpg.webp
END:VEVENT
BEGIN:VEVENT
DTSTART;VALUE=DATE:20260806
DTEND;VALUE=DATE:20260807
DTSTAMP:20260425T043109
CREATED:20250802T012253Z
LAST-MODIFIED:20250802T012325Z
UID:10001660-1785974400-1786060799@valleyviewcasino.com
SUMMARY:Thirsty Thursdays
DESCRIPTION:Thirsty Thursdays\nJoin us at Valley View Casino & Hotel for our Thirsty Thursdays promotion where you can sip on $5 ice-cold draft beer\, $6 hand-selected wines and $7 refreshing cocktails. Enjoy these specials throughout the casino and at any of our restaurants or bars.
URL:https://valleyviewcasino.com/promotion/thirsty-thursdays-2/2026-08-06/
LOCATION:Throughout the Casino
ATTACH;FMTTYPE=image/webp:https://valleyviewcasino.com/wp-content/uploads/2025/04/promo-tile-thirstythursdays.jpg.webp
END:VEVENT
BEGIN:VEVENT
DTSTART;TZID=America/Los_Angeles:20260730T170000
DTEND;TZID=America/Los_Angeles:20260730T210000
DTSTAMP:20260425T043109
CREATED:20260330T180432Z
LAST-MODIFIED:20260423T173633Z
UID:10002112-1785430800-1785445200@valleyviewcasino.com
SUMMARY:$500\,000 Pick Three Thursdays
DESCRIPTION:$500\,000 Pick Three Thursdays\nJoin us for our $500\,000 Pick Three Thursdays promotion where you could win a huge grand prize. Every hour from 5:00pm – 8:00pm\, five guests will win MOREPLAY®\, and then at 9:00pm\, three guests will each select three envelopes for a chance at $500\,000. So join us at the Main Stage Bar every Thursday from 5:00pm – 9:00pm to win big!
URL:https://valleyviewcasino.com/promotion/500000-pick-three-thursdays/2026-07-30/
LOCATION:Main Stage Bar
ATTACH;FMTTYPE=image/webp:https://valleyviewcasino.com/wp-content/uploads/2025/04/promo-tile-3thursdays.jpg.webp
END:VEVENT
BEGIN:VEVENT
DTSTART;VALUE=DATE:20260730
DTEND;VALUE=DATE:20260731
DTSTAMP:20260425T043109
CREATED:20250802T012253Z
LAST-MODIFIED:20250802T012325Z
UID:10001155-1785369600-1785455999@valleyviewcasino.com
SUMMARY:Thirsty Thursdays
DESCRIPTION:Thirsty Thursdays\nJoin us at Valley View Casino & Hotel for our Thirsty Thursdays promotion where you can sip on $5 ice-cold draft beer\, $6 hand-selected wines and $7 refreshing cocktails. Enjoy these specials throughout the casino and at any of our restaurants or bars.
URL:https://valleyviewcasino.com/promotion/thirsty-thursdays-2/2026-07-30/
LOCATION:Throughout the Casino
ATTACH;FMTTYPE=image/webp:https://valleyviewcasino.com/wp-content/uploads/2025/04/promo-tile-thirstythursdays.jpg.webp
END:VEVENT
BEGIN:VEVENT
DTSTART;TZID=America/Los_Angeles:20260723T170000
DTEND;TZID=America/Los_Angeles:20260723T210000
DTSTAMP:20260425T043109
CREATED:20260330T180432Z
LAST-MODIFIED:20260423T173633Z
UID:10002111-1784826000-1784840400@valleyviewcasino.com
SUMMARY:$500\,000 Pick Three Thursdays
DESCRIPTION:$500\,000 Pick Three Thursdays\nJoin us for our $500\,000 Pick Three Thursdays promotion where you could win a huge grand prize. Every hour from 5:00pm – 8:00pm\, five guests will win MOREPLAY®\, and then at 9:00pm\, three guests will each select three envelopes for a chance at $500\,000. So join us at the Main Stage Bar every Thursday from 5:00pm – 9:00pm to win big!
URL:https://valleyviewcasino.com/promotion/500000-pick-three-thursdays/2026-07-23/
LOCATION:Main Stage Bar
ATTACH;FMTTYPE=image/webp:https://valleyviewcasino.com/wp-content/uploads/2025/04/promo-tile-3thursdays.jpg.webp
END:VEVENT
BEGIN:VEVENT
DTSTART;VALUE=DATE:20260723
DTEND;VALUE=DATE:20260724
DTSTAMP:20260425T043109
CREATED:20250802T012253Z
LAST-MODIFIED:20250802T012325Z
UID:10001154-1784764800-1784851199@valleyviewcasino.com
SUMMARY:Thirsty Thursdays
DESCRIPTION:Thirsty Thursdays\nJoin us at Valley View Casino & Hotel for our Thirsty Thursdays promotion where you can sip on $5 ice-cold draft beer\, $6 hand-selected wines and $7 refreshing cocktails. Enjoy these specials throughout the casino and at any of our restaurants or bars.
URL:https://valleyviewcasino.com/promotion/thirsty-thursdays-2/2026-07-23/
LOCATION:Throughout the Casino
ATTACH;FMTTYPE=image/webp:https://valleyviewcasino.com/wp-content/uploads/2025/04/promo-tile-thirstythursdays.jpg.webp
END:VEVENT
BEGIN:VEVENT
DTSTART;TZID=America/Los_Angeles:20260716T170000
DTEND;TZID=America/Los_Angeles:20260716T210000
DTSTAMP:20260425T043109
CREATED:20260330T180432Z
LAST-MODIFIED:20260423T173633Z
UID:10002110-1784221200-1784235600@valleyviewcasino.com
SUMMARY:$500\,000 Pick Three Thursdays
DESCRIPTION:$500\,000 Pick Three Thursdays\nJoin us for our $500\,000 Pick Three Thursdays promotion where you could win a huge grand prize. Every hour from 5:00pm – 8:00pm\, five guests will win MOREPLAY®\, and then at 9:00pm\, three guests will each select three envelopes for a chance at $500\,000. So join us at the Main Stage Bar every Thursday from 5:00pm – 9:00pm to win big!
URL:https://valleyviewcasino.com/promotion/500000-pick-three-thursdays/2026-07-16/
LOCATION:Main Stage Bar
ATTACH;FMTTYPE=image/webp:https://valleyviewcasino.com/wp-content/uploads/2025/04/promo-tile-3thursdays.jpg.webp
END:VEVENT
BEGIN:VEVENT
DTSTART;VALUE=DATE:20260716
DTEND;VALUE=DATE:20260717
DTSTAMP:20260425T043109
CREATED:20250802T012253Z
LAST-MODIFIED:20250802T012325Z
UID:10001153-1784160000-1784246399@valleyviewcasino.com
SUMMARY:Thirsty Thursdays
DESCRIPTION:Thirsty Thursdays\nJoin us at Valley View Casino & Hotel for our Thirsty Thursdays promotion where you can sip on $5 ice-cold draft beer\, $6 hand-selected wines and $7 refreshing cocktails. Enjoy these specials throughout the casino and at any of our restaurants or bars.
URL:https://valleyviewcasino.com/promotion/thirsty-thursdays-2/2026-07-16/
LOCATION:Throughout the Casino
ATTACH;FMTTYPE=image/webp:https://valleyviewcasino.com/wp-content/uploads/2025/04/promo-tile-thirstythursdays.jpg.webp
END:VEVENT
BEGIN:VEVENT
DTSTART;TZID=America/Los_Angeles:20260709T170000
DTEND;TZID=America/Los_Angeles:20260709T210000
DTSTAMP:20260425T043109
CREATED:20260330T180432Z
LAST-MODIFIED:20260423T173633Z
UID:10002109-1783616400-1783630800@valleyviewcasino.com
SUMMARY:$500\,000 Pick Three Thursdays
DESCRIPTION:$500\,000 Pick Three Thursdays\nJoin us for our $500\,000 Pick Three Thursdays promotion where you could win a huge grand prize. Every hour from 5:00pm – 8:00pm\, five guests will win MOREPLAY®\, and then at 9:00pm\, three guests will each select three envelopes for a chance at $500\,000. So join us at the Main Stage Bar every Thursday from 5:00pm – 9:00pm to win big!
URL:https://valleyviewcasino.com/promotion/500000-pick-three-thursdays/2026-07-09/
LOCATION:Main Stage Bar
ATTACH;FMTTYPE=image/webp:https://valleyviewcasino.com/wp-content/uploads/2025/04/promo-tile-3thursdays.jpg.webp
END:VEVENT
BEGIN:VEVENT
DTSTART;VALUE=DATE:20260709
DTEND;VALUE=DATE:20260710
DTSTAMP:20260425T043109
CREATED:20250802T012253Z
LAST-MODIFIED:20250802T012325Z
UID:10001152-1783555200-1783641599@valleyviewcasino.com
SUMMARY:Thirsty Thursdays
DESCRIPTION:Thirsty Thursdays\nJoin us at Valley View Casino & Hotel for our Thirsty Thursdays promotion where you can sip on $5 ice-cold draft beer\, $6 hand-selected wines and $7 refreshing cocktails. Enjoy these specials throughout the casino and at any of our restaurants or bars.
URL:https://valleyviewcasino.com/promotion/thirsty-thursdays-2/2026-07-09/
LOCATION:Throughout the Casino
ATTACH;FMTTYPE=image/webp:https://valleyviewcasino.com/wp-content/uploads/2025/04/promo-tile-thirstythursdays.jpg.webp
END:VEVENT
BEGIN:VEVENT
DTSTART;TZID=America/Los_Angeles:20260702T170000
DTEND;TZID=America/Los_Angeles:20260702T210000
DTSTAMP:20260425T043109
CREATED:20260330T180432Z
LAST-MODIFIED:20260423T173633Z
UID:10002108-1783011600-1783026000@valleyviewcasino.com
SUMMARY:$500\,000 Pick Three Thursdays
DESCRIPTION:$500\,000 Pick Three Thursdays\nJoin us for our $500\,000 Pick Three Thursdays promotion where you could win a huge grand prize. Every hour from 5:00pm – 8:00pm\, five guests will win MOREPLAY®\, and then at 9:00pm\, three guests will each select three envelopes for a chance at $500\,000. So join us at the Main Stage Bar every Thursday from 5:00pm – 9:00pm to win big!
URL:https://valleyviewcasino.com/promotion/500000-pick-three-thursdays/2026-07-02/
LOCATION:Main Stage Bar
ATTACH;FMTTYPE=image/webp:https://valleyviewcasino.com/wp-content/uploads/2025/04/promo-tile-3thursdays.jpg.webp
END:VEVENT
BEGIN:VEVENT
DTSTART;VALUE=DATE:20260702
DTEND;VALUE=DATE:20260703
DTSTAMP:20260425T043109
CREATED:20250802T012253Z
LAST-MODIFIED:20250802T012325Z
UID:10001151-1782950400-1783036799@valleyviewcasino.com
SUMMARY:Thirsty Thursdays
DESCRIPTION:Thirsty Thursdays\nJoin us at Valley View Casino & Hotel for our Thirsty Thursdays promotion where you can sip on $5 ice-cold draft beer\, $6 hand-selected wines and $7 refreshing cocktails. Enjoy these specials throughout the casino and at any of our restaurants or bars.
URL:https://valleyviewcasino.com/promotion/thirsty-thursdays-2/2026-07-02/
LOCATION:Throughout the Casino
ATTACH;FMTTYPE=image/webp:https://valleyviewcasino.com/wp-content/uploads/2025/04/promo-tile-thirstythursdays.jpg.webp
END:VEVENT
BEGIN:VEVENT
DTSTART;TZID=America/Los_Angeles:20260625T170000
DTEND;TZID=America/Los_Angeles:20260625T210000
DTSTAMP:20260425T043109
CREATED:20260330T180432Z
LAST-MODIFIED:20260423T173633Z
UID:10002107-1782406800-1782421200@valleyviewcasino.com
SUMMARY:$500\,000 Pick Three Thursdays
DESCRIPTION:$500\,000 Pick Three Thursdays\nJoin us for our $500\,000 Pick Three Thursdays promotion where you could win a huge grand prize. Every hour from 5:00pm – 8:00pm\, five guests will win MOREPLAY®\, and then at 9:00pm\, three guests will each select three envelopes for a chance at $500\,000. So join us at the Main Stage Bar every Thursday from 5:00pm – 9:00pm to win big!
URL:https://valleyviewcasino.com/promotion/500000-pick-three-thursdays/2026-06-25/
LOCATION:Main Stage Bar
ATTACH;FMTTYPE=image/webp:https://valleyviewcasino.com/wp-content/uploads/2025/04/promo-tile-3thursdays.jpg.webp
END:VEVENT
BEGIN:VEVENT
DTSTART;VALUE=DATE:20260625
DTEND;VALUE=DATE:20260626
DTSTAMP:20260425T043109
CREATED:20250802T012253Z
LAST-MODIFIED:20250802T012325Z
UID:10001150-1782345600-1782431999@valleyviewcasino.com
SUMMARY:Thirsty Thursdays
DESCRIPTION:Thirsty Thursdays\nJoin us at Valley View Casino & Hotel for our Thirsty Thursdays promotion where you can sip on $5 ice-cold draft beer\, $6 hand-selected wines and $7 refreshing cocktails. Enjoy these specials throughout the casino and at any of our restaurants or bars.
URL:https://valleyviewcasino.com/promotion/thirsty-thursdays-2/2026-06-25/
LOCATION:Throughout the Casino
ATTACH;FMTTYPE=image/webp:https://valleyviewcasino.com/wp-content/uploads/2025/04/promo-tile-thirstythursdays.jpg.webp
END:VEVENT
BEGIN:VEVENT
DTSTART;TZID=America/Los_Angeles:20260618T170000
DTEND;TZID=America/Los_Angeles:20260618T210000
DTSTAMP:20260425T043109
CREATED:20260330T180432Z
LAST-MODIFIED:20260423T173633Z
UID:10002106-1781802000-1781816400@valleyviewcasino.com
SUMMARY:$500\,000 Pick Three Thursdays
DESCRIPTION:$500\,000 Pick Three Thursdays\nJoin us for our $500\,000 Pick Three Thursdays promotion where you could win a huge grand prize. Every hour from 5:00pm – 8:00pm\, five guests will win MOREPLAY®\, and then at 9:00pm\, three guests will each select three envelopes for a chance at $500\,000. So join us at the Main Stage Bar every Thursday from 5:00pm – 9:00pm to win big!
URL:https://valleyviewcasino.com/promotion/500000-pick-three-thursdays/2026-06-18/
LOCATION:Main Stage Bar
ATTACH;FMTTYPE=image/webp:https://valleyviewcasino.com/wp-content/uploads/2025/04/promo-tile-3thursdays.jpg.webp
END:VEVENT
BEGIN:VEVENT
DTSTART;VALUE=DATE:20260618
DTEND;VALUE=DATE:20260619
DTSTAMP:20260425T043109
CREATED:20250802T012253Z
LAST-MODIFIED:20250802T012325Z
UID:10001149-1781740800-1781827199@valleyviewcasino.com
SUMMARY:Thirsty Thursdays
DESCRIPTION:Thirsty Thursdays\nJoin us at Valley View Casino & Hotel for our Thirsty Thursdays promotion where you can sip on $5 ice-cold draft beer\, $6 hand-selected wines and $7 refreshing cocktails. Enjoy these specials throughout the casino and at any of our restaurants or bars.
URL:https://valleyviewcasino.com/promotion/thirsty-thursdays-2/2026-06-18/
LOCATION:Throughout the Casino
ATTACH;FMTTYPE=image/webp:https://valleyviewcasino.com/wp-content/uploads/2025/04/promo-tile-thirstythursdays.jpg.webp
END:VEVENT
BEGIN:VEVENT
DTSTART;TZID=America/Los_Angeles:20260611T170000
DTEND;TZID=America/Los_Angeles:20260611T210000
DTSTAMP:20260425T043109
CREATED:20260330T180432Z
LAST-MODIFIED:20260423T173633Z
UID:10002105-1781197200-1781211600@valleyviewcasino.com
SUMMARY:$500\,000 Pick Three Thursdays
DESCRIPTION:$500\,000 Pick Three Thursdays\nJoin us for our $500\,000 Pick Three Thursdays promotion where you could win a huge grand prize. Every hour from 5:00pm – 8:00pm\, five guests will win MOREPLAY®\, and then at 9:00pm\, three guests will each select three envelopes for a chance at $500\,000. So join us at the Main Stage Bar every Thursday from 5:00pm – 9:00pm to win big!
URL:https://valleyviewcasino.com/promotion/500000-pick-three-thursdays/2026-06-11/
LOCATION:Main Stage Bar
ATTACH;FMTTYPE=image/webp:https://valleyviewcasino.com/wp-content/uploads/2025/04/promo-tile-3thursdays.jpg.webp
END:VEVENT
BEGIN:VEVENT
DTSTART;VALUE=DATE:20260611
DTEND;VALUE=DATE:20260612
DTSTAMP:20260425T043109
CREATED:20250802T012253Z
LAST-MODIFIED:20250802T012325Z
UID:10001148-1781136000-1781222399@valleyviewcasino.com
SUMMARY:Thirsty Thursdays
DESCRIPTION:Thirsty Thursdays\nJoin us at Valley View Casino & Hotel for our Thirsty Thursdays promotion where you can sip on $5 ice-cold draft beer\, $6 hand-selected wines and $7 refreshing cocktails. Enjoy these specials throughout the casino and at any of our restaurants or bars.
URL:https://valleyviewcasino.com/promotion/thirsty-thursdays-2/2026-06-11/
LOCATION:Throughout the Casino
ATTACH;FMTTYPE=image/webp:https://valleyviewcasino.com/wp-content/uploads/2025/04/promo-tile-thirstythursdays.jpg.webp
END:VEVENT
BEGIN:VEVENT
DTSTART;TZID=America/Los_Angeles:20260604T170000
DTEND;TZID=America/Los_Angeles:20260604T210000
DTSTAMP:20260425T043109
CREATED:20260330T180432Z
LAST-MODIFIED:20260423T173633Z
UID:10002104-1780592400-1780606800@valleyviewcasino.com
SUMMARY:$500\,000 Pick Three Thursdays
DESCRIPTION:$500\,000 Pick Three Thursdays\nJoin us for our $500\,000 Pick Three Thursdays promotion where you could win a huge grand prize. Every hour from 5:00pm – 8:00pm\, five guests will win MOREPLAY®\, and then at 9:00pm\, three guests will each select three envelopes for a chance at $500\,000. So join us at the Main Stage Bar every Thursday from 5:00pm – 9:00pm to win big!
URL:https://valleyviewcasino.com/promotion/500000-pick-three-thursdays/2026-06-04/
LOCATION:Main Stage Bar
ATTACH;FMTTYPE=image/webp:https://valleyviewcasino.com/wp-content/uploads/2025/04/promo-tile-3thursdays.jpg.webp
END:VEVENT
BEGIN:VEVENT
DTSTART;VALUE=DATE:20260604
DTEND;VALUE=DATE:20260605
DTSTAMP:20260425T043109
CREATED:20250802T012253Z
LAST-MODIFIED:20250802T012325Z
UID:10001147-1780531200-1780617599@valleyviewcasino.com
SUMMARY:Thirsty Thursdays
DESCRIPTION:Thirsty Thursdays\nJoin us at Valley View Casino & Hotel for our Thirsty Thursdays promotion where you can sip on $5 ice-cold draft beer\, $6 hand-selected wines and $7 refreshing cocktails. Enjoy these specials throughout the casino and at any of our restaurants or bars.
URL:https://valleyviewcasino.com/promotion/thirsty-thursdays-2/2026-06-04/
LOCATION:Throughout the Casino
ATTACH;FMTTYPE=image/webp:https://valleyviewcasino.com/wp-content/uploads/2025/04/promo-tile-thirstythursdays.jpg.webp
END:VEVENT
BEGIN:VEVENT
DTSTART;TZID=America/Los_Angeles:20260528T170000
DTEND;TZID=America/Los_Angeles:20260528T210000
DTSTAMP:20260425T043109
CREATED:20260330T180432Z
LAST-MODIFIED:20260423T173633Z
UID:10002103-1779987600-1780002000@valleyviewcasino.com
SUMMARY:$500\,000 Pick Three Thursdays
DESCRIPTION:$500\,000 Pick Three Thursdays\nJoin us for our $500\,000 Pick Three Thursdays promotion where you could win a huge grand prize. Every hour from 5:00pm – 8:00pm\, five guests will win MOREPLAY®\, and then at 9:00pm\, three guests will each select three envelopes for a chance at $500\,000. So join us at the Main Stage Bar every Thursday from 5:00pm – 9:00pm to win big!
URL:https://valleyviewcasino.com/promotion/500000-pick-three-thursdays/2026-05-28/
LOCATION:Main Stage Bar
ATTACH;FMTTYPE=image/webp:https://valleyviewcasino.com/wp-content/uploads/2025/04/promo-tile-3thursdays.jpg.webp
END:VEVENT
BEGIN:VEVENT
DTSTART;VALUE=DATE:20260528
DTEND;VALUE=DATE:20260529
DTSTAMP:20260425T043109
CREATED:20250802T012253Z
LAST-MODIFIED:20250802T012325Z
UID:10001146-1779926400-1780012799@valleyviewcasino.com
SUMMARY:Thirsty Thursdays
DESCRIPTION:Thirsty Thursdays\nJoin us at Valley View Casino & Hotel for our Thirsty Thursdays promotion where you can sip on $5 ice-cold draft beer\, $6 hand-selected wines and $7 refreshing cocktails. Enjoy these specials throughout the casino and at any of our restaurants or bars.
URL:https://valleyviewcasino.com/promotion/thirsty-thursdays-2/2026-05-28/
LOCATION:Throughout the Casino
ATTACH;FMTTYPE=image/webp:https://valleyviewcasino.com/wp-content/uploads/2025/04/promo-tile-thirstythursdays.jpg.webp
END:VEVENT
BEGIN:VEVENT
DTSTART;TZID=America/Los_Angeles:20260521T170000
DTEND;TZID=America/Los_Angeles:20260521T210000
DTSTAMP:20260425T043109
CREATED:20260330T180432Z
LAST-MODIFIED:20260423T173633Z
UID:10002102-1779382800-1779397200@valleyviewcasino.com
SUMMARY:$500\,000 Pick Three Thursdays
DESCRIPTION:$500\,000 Pick Three Thursdays\nJoin us for our $500\,000 Pick Three Thursdays promotion where you could win a huge grand prize. Every hour from 5:00pm – 8:00pm\, five guests will win MOREPLAY®\, and then at 9:00pm\, three guests will each select three envelopes for a chance at $500\,000. So join us at the Main Stage Bar every Thursday from 5:00pm – 9:00pm to win big!
URL:https://valleyviewcasino.com/promotion/500000-pick-three-thursdays/2026-05-21/
LOCATION:Main Stage Bar
ATTACH;FMTTYPE=image/webp:https://valleyviewcasino.com/wp-content/uploads/2025/04/promo-tile-3thursdays.jpg.webp
END:VEVENT
END:VCALENDAR